BEGIN:VCALENDAR
VERSION:2.0
PRODID:icalendar-ruby
CALSCALE:GREGORIAN
METHOD:PUBLISH
BEGIN:VEVENT
DTSTAMP:20260420T010602Z
UID:5-1538631@phmbcmchorse.com
DTSTART:20260927T160000Z
DTEND:20260927T170000Z
CLASS:PUBLIC
CREATED:20260419T194012
DESCRIPTION:Sunday Worship
LAST-MODIFIED:20260419T194012
LOCATION:
SUMMARY:Sunday Worship
URL;VALUE=URI:https://phmbcmchorse.com/events/sunday-worship/2026-09-27
END:VEVENT
END:VCALENDAR
